BEGIN:VCALENDAR
VERSION:2.0
PRODID:-//www.destinychurchexit77.org//NONSGML kigkonsult.se iCalcreator 2.
 39.1//
CALSCALE:GREGORIAN
METHOD:PUBLISH
UID:7085e388-bb22-4ca4-b082-1c66c2ff07b9
X-WR-CALNAME:www.destinychurchexit77.org
X-WR-CALDESC:www.destinychurchexit77.org
X-WR-TIMEZONE:America/Los_Angeles
X-LIC-LOCATION:America/Los_Angeles
BEGIN:VEVENT
UID:4f8d065f-ffa2-470e-94f2-b13f1155219e
DTSTAMP:20260425T111305Z
CLASS:PUBLIC
DTSTART;TZID=America/Los_Angeles:20260425T063000
DTEND;TZID=America/Los_Angeles:20260425T080000
SUMMARY:Men's Breakfast
TRANSP:OPAQUE
BEGIN:VALARM
ACTION:DISPLAY
DESCRIPTION:Men's Breakfast
TRIGGER:-PT15M
END:VALARM
END:VEVENT
END:VCALENDAR
