BEGIN:VCALENDAR
VERSION:2.0
PRODID:-//www.destinychurchexit77.org//NONSGML kigkonsult.se iCalcreator 2.
 39.1//
CALSCALE:GREGORIAN
METHOD:PUBLISH
UID:e56bc219-29d2-4528-b993-1652894188cd
X-WR-CALNAME:www.destinychurchexit77.org
X-WR-CALDESC:www.destinychurchexit77.org
X-WR-TIMEZONE:America/Los_Angeles
X-LIC-LOCATION:America/Los_Angeles
BEGIN:VEVENT
UID:d0a09749-47b2-4f7a-8dbe-a07c46c07fdb
DTSTAMP:20260423T132132Z
CLASS:PUBLIC
DTSTART;TZID=America/Los_Angeles:20260423T183000
DTEND;TZID=America/Los_Angeles:20260423T200000
SUMMARY:Ladies Worship Night
TRANSP:OPAQUE
BEGIN:VALARM
ACTION:DISPLAY
DESCRIPTION:Ladies Worship Night
TRIGGER:-PT15M
END:VALARM
END:VEVENT
END:VCALENDAR
